BEGIN:VCALENDAR
VERSION:2.0
PRODID:Imitheme.com 
BEGIN:VEVENT
UID:20260423T10375466607782
DTSTAMP;TZID=UTC:2026-04-23 10:37:54
DTSTART;TZID=America/Los_Angeles:20260423T103754
DTEND;TZID=America/Los_Angeles:20260423T103754
SUMMARY:Advent Carol Service
LOCATION:
DESCRIPTION:
URL:https://stfranciskaren.com/eventer/advent-carol-service/
END:VEVENT
END:VCALENDAR
