BEGIN:VCALENDAR
VERSION:2.0
PRODID:Imitheme.com 
BEGIN:VEVENT
UID:20260423T1212051237308320
DTSTAMP;TZID=UTC:2026-04-23 12:12:05
DTSTART;TZID=America/Los_Angeles:20260423T121205
DTEND;TZID=America/Los_Angeles:20260423T121205
SUMMARY:Bible Study
LOCATION:Main Church
DESCRIPTION:
URL:https://stfranciskaren.com/eventer/bible-study/
END:VEVENT
END:VCALENDAR
