BEGIN:VCALENDAR
VERSION:2.0
PRODID:Imitheme.com 
BEGIN:VEVENT
UID:20260423T121200820716946
DTSTAMP;TZID=UTC:2026-04-23 12:12:00
DTSTART;TZID=America/Los_Angeles:20260423T121200
DTEND;TZID=America/Los_Angeles:20260423T121200
SUMMARY:Sunday Service
LOCATION:Old Sanctuary
DESCRIPTION:
URL:https://stfranciskaren.com/eventer/sunday-service/
END:VEVENT
END:VCALENDAR
