BEGIN:VCALENDAR
VERSION:2.0
PRODID:Imitheme.com 
BEGIN:VEVENT
UID:20260423T121205576595922
DTSTAMP;TZID=UTC:2026-04-23 12:12:05
DTSTART;TZID=America/Los_Angeles:20260423T121205
DTEND;TZID=America/Los_Angeles:20260423T121205
SUMMARY:Mother Union Fellowship
LOCATION:
DESCRIPTION:
URL:https://stfranciskaren.com/eventer/mother-union-fellowship/
END:VEVENT
END:VCALENDAR
