BEGIN:VCALENDAR
VERSION:2.0
PRODID:Imitheme.com 
BEGIN:VEVENT
UID:20260423T1027081443210181
DTSTAMP;TZID=UTC:2026-04-23 10:27:08
DTSTART;TZID=America/Los_Angeles:20260423T102708
DTEND;TZID=America/Los_Angeles:20260423T102708
SUMMARY:Wednesday Holy Communion Service
LOCATION:Main Church
DESCRIPTION:
URL:https://stfranciskaren.com/eventer/wednesday-holy-communion-service/
END:VEVENT
END:VCALENDAR
