BEGIN:VCALENDAR
VERSION:2.0
PRODID:Imitheme.com 
BEGIN:VEVENT
UID:20260424T1156211339191719
DTSTAMP;TZID=UTC:2026-04-24 11:56:21
DTSTART;TZID=America/Los_Angeles:20260424T115621
DTEND;TZID=America/Los_Angeles:20260424T115621
SUMMARY:Sunday Service
LOCATION:Old Sanctuary
DESCRIPTION:
URL:https://stfranciskaren.com/eventer/sunday-service/
END:VEVENT
END:VCALENDAR
