BEGIN:VCALENDAR
VERSION:2.0
PRODID:Imitheme.com 
BEGIN:VEVENT
UID:20260424T101718680835025
DTSTAMP;TZID=UTC:2026-04-24 10:17:18
DTSTART;TZID=America/Los_Angeles:20260424T101718
DTEND;TZID=America/Los_Angeles:20260424T101718
SUMMARY:Sunday Service
LOCATION:Old Sanctuary
DESCRIPTION:
URL:https://stfranciskaren.com/eventer/sunday-service/
END:VEVENT
END:VCALENDAR
