BEGIN:VCALENDAR
VERSION:2.0
PRODID:Imitheme.com 
BEGIN:VEVENT
UID:20260423T103512466469626
DTSTAMP;TZID=UTC:2026-04-23 10:35:12
DTSTART;TZID=America/Los_Angeles:20260423T103512
DTEND;TZID=America/Los_Angeles:20260423T103512
SUMMARY:Bible Study
LOCATION:Main Church
DESCRIPTION:
URL:https://stfranciskaren.com/eventer/bible-study/
END:VEVENT
END:VCALENDAR
