BEGIN:VCALENDAR
VERSION:2.0
PRODID:Imitheme.com 
BEGIN:VEVENT
UID:20260423T1035382090501536
DTSTAMP;TZID=UTC:2026-04-23 10:35:38
DTSTART;TZID=America/Los_Angeles:20260423T103538
DTEND;TZID=America/Los_Angeles:20260423T103538
SUMMARY:Mother Union Fellowship
LOCATION:
DESCRIPTION:
URL:https://stfranciskaren.com/eventer/mother-union-fellowship/
END:VEVENT
END:VCALENDAR
