BEGIN:VCALENDAR
VERSION:2.0
PRODID:Imitheme.com 
BEGIN:VEVENT
UID:20260424T103558659463349
DTSTAMP;TZID=UTC:2026-04-24 10:35:58
DTSTART;TZID=America/Los_Angeles:20260424T103558
DTEND;TZID=America/Los_Angeles:20260424T103558
SUMMARY:Wednesday Holy Communion Service
LOCATION:Main Church
DESCRIPTION:
URL:https://stfranciskaren.com/eventer/wednesday-holy-communion-service/
END:VEVENT
END:VCALENDAR
